BEGIN:VCALENDAR
VERSION:2.0
PRODID:-//C.S. Lewis Institute - Dallas - ECPv6.15.20//NONSGML v1.0//EN
CALSCALE:GREGORIAN
METHOD:PUBLISH
X-ORIGINAL-URL:https://cslidallas.org
X-WR-CALDESC:Events for C.S. Lewis Institute - Dallas
REFRESH-INTERVAL;VALUE=DURATION:PT1H
X-Robots-Tag:noindex
X-PUBLISHED-TTL:PT1H
BEGIN:VTIMEZONE
TZID:America/Chicago
BEGIN:DAYLIGHT
TZOFFSETFROM:-0600
TZOFFSETTO:-0500
TZNAME:CDT
DTSTART:20210314T080000
END:DAYLIGHT
BEGIN:STANDARD
TZOFFSETFROM:-0500
TZOFFSETTO:-0600
TZNAME:CST
DTSTART:20211107T070000
END:STANDARD
BEGIN:DAYLIGHT
TZOFFSETFROM:-0600
TZOFFSETTO:-0500
TZNAME:CDT
DTSTART:20220313T080000
END:DAYLIGHT
BEGIN:STANDARD
TZOFFSETFROM:-0500
TZOFFSETTO:-0600
TZNAME:CST
DTSTART:20221106T070000
END:STANDARD
BEGIN:DAYLIGHT
TZOFFSETFROM:-0600
TZOFFSETTO:-0500
TZNAME:CDT
DTSTART:20230312T080000
END:DAYLIGHT
BEGIN:STANDARD
TZOFFSETFROM:-0500
TZOFFSETTO:-0600
TZNAME:CST
DTSTART:20231105T070000
END:STANDARD
BEGIN:DAYLIGHT
TZOFFSETFROM:-0600
TZOFFSETTO:-0500
TZNAME:CDT
DTSTART:20240310T080000
END:DAYLIGHT
BEGIN:STANDARD
TZOFFSETFROM:-0500
TZOFFSETTO:-0600
TZNAME:CST
DTSTART:20241103T070000
END:STANDARD
END:VTIMEZONE
BEGIN:VEVENT
DTSTART;TZID=America/Chicago:20230318T090000
DTEND;TZID=America/Chicago:20230318T120000
DTSTAMP:20260423T192112
CREATED:20220309T182353Z
LAST-MODIFIED:20220309T183336Z
UID:7236-1679130000-1679140800@cslidallas.org
SUMMARY:Urban Plunge Service Project
DESCRIPTION:Join us in our Annual Urban Plunge Service Project in collaboration with a dynamic local ministry. It is a great way to not only get involved in service to our city\, but to also get to know Fellows\, Alumni and Friends of the Ministry. All are welcome! Registration Required. More information to come!
URL:https://cslidallas.org/event/urban-plunge-service-project/
CATEGORIES:Serving
ORGANIZER;CN="CS Lewis Institute-Dallas":MAILTO:k.durham@cslewisinstitute.org
END:VEVENT
BEGIN:VEVENT
DTSTART;TZID=America/Chicago:20220205T090000
DTEND;TZID=America/Chicago:20220205T120000
DTSTAMP:20260423T192112
CREATED:20220124T215536Z
LAST-MODIFIED:20220125T020833Z
UID:7056-1644051600-1644062400@cslidallas.org
SUMMARY:2022 Year One Fellows Urban Plunge
DESCRIPTION:Each year\, as a part of our Year One Fellows Program\, we host a service project that allows our Fellows to live out their discipleship training in active service to the city. This year we are excited to partner with our dear friends at Cornerstone Baptist Church to help serve in three of their vital ministries: the Cornerstone Kitchen\, the Closet and Shower Facility and Viola’s house\, a ministry that provides housing and support to teen mothers at-risk for homelessness. \nAll are welcome whether Fellow\, Alumni\, Friend\, Family or First-timer!! But registration is required. \nIt’s a great opportunity to not only serve alongside once of our city’s most powerful and beloved ministries\, but also to meet new friends and get to know more about the Institute and the Fellows Program. \nClick to Register!
URL:https://cslidallas.org/event/2022-year-one-fellows-urban-plunge/
LOCATION:Cornerstone Baptist Church\, 1819 Martin L King Jr Blvd\,\, Dallas\, TX\, 75215
CATEGORIES:Serving
ORGANIZER;CN="CS Lewis Institute-Dallas":MAILTO:k.durham@cslewisinstitute.org
END:VEVENT
END:VCALENDAR