BEGIN:VCALENDAR
VERSION:2.0
PRODID:-//C.S. Lewis Institute - Dallas - ECPv6.15.20//NONSGML v1.0//EN
CALSCALE:GREGORIAN
METHOD:PUBLISH
X-WR-CALNAME:C.S. Lewis Institute - Dallas
X-ORIGINAL-URL:https://cslidallas.org
X-WR-CALDESC:Events for C.S. Lewis Institute - Dallas
REFRESH-INTERVAL;VALUE=DURATION:PT1H
X-Robots-Tag:noindex
X-PUBLISHED-TTL:PT1H
BEGIN:VTIMEZONE
TZID:America/Chicago
BEGIN:DAYLIGHT
TZOFFSETFROM:-0600
TZOFFSETTO:-0500
TZNAME:CDT
DTSTART:20200308T080000
END:DAYLIGHT
BEGIN:STANDARD
TZOFFSETFROM:-0500
TZOFFSETTO:-0600
TZNAME:CST
DTSTART:20201101T070000
END:STANDARD
BEGIN:DAYLIGHT
TZOFFSETFROM:-0600
TZOFFSETTO:-0500
TZNAME:CDT
DTSTART:20210314T080000
END:DAYLIGHT
BEGIN:STANDARD
TZOFFSETFROM:-0500
TZOFFSETTO:-0600
TZNAME:CST
DTSTART:20211107T070000
END:STANDARD
BEGIN:DAYLIGHT
TZOFFSETFROM:-0600
TZOFFSETTO:-0500
TZNAME:CDT
DTSTART:20220313T080000
END:DAYLIGHT
BEGIN:STANDARD
TZOFFSETFROM:-0500
TZOFFSETTO:-0600
TZNAME:CST
DTSTART:20221106T070000
END:STANDARD
BEGIN:DAYLIGHT
TZOFFSETFROM:-0600
TZOFFSETTO:-0500
TZNAME:CDT
DTSTART:20230312T080000
END:DAYLIGHT
BEGIN:STANDARD
TZOFFSETFROM:-0500
TZOFFSETTO:-0600
TZNAME:CST
DTSTART:20231105T070000
END:STANDARD
BEGIN:DAYLIGHT
TZOFFSETFROM:-0600
TZOFFSETTO:-0500
TZNAME:CDT
DTSTART:20240310T080000
END:DAYLIGHT
BEGIN:STANDARD
TZOFFSETFROM:-0500
TZOFFSETTO:-0600
TZNAME:CST
DTSTART:20241103T070000
END:STANDARD
BEGIN:DAYLIGHT
TZOFFSETFROM:-0600
TZOFFSETTO:-0500
TZNAME:CDT
DTSTART:20250309T080000
END:DAYLIGHT
BEGIN:STANDARD
TZOFFSETFROM:-0500
TZOFFSETTO:-0600
TZNAME:CST
DTSTART:20251102T070000
END:STANDARD
END:VTIMEZONE
BEGIN:VEVENT
DTSTART;TZID=America/Chicago:20240406T090000
DTEND;TZID=America/Chicago:20240406T123000
DTSTAMP:20260423T153808
CREATED:20240305T143821Z
LAST-MODIFIED:20240305T144005Z
UID:7375-1712394000-1712406600@cslidallas.org
SUMMARY:Year 1 Meeting - Defending Our Faith: Cultural Apologetics
DESCRIPTION:This month’s studies help us gain a better sense of the importance of knowing the truth in several areas\, including: being a disciple of Jesus\, developing more confidence in the truthfulness of essential Christian beliefs (i.e.\, ‘mere Christianity’)\, and developing a biblical perspective regarding the place of apologetics for the Christian life and witness.
URL:https://cslidallas.org/event/2024-year-1-meeting-defending-our-faith-cultural-apologetics/
LOCATION:Tyler Street Church\, 927 W. Tenth Street\, Dallas\, TX\, 75208
CATEGORIES:Monthly Fellows Meeting
ATTACH;FMTTYPE=image/png:https://cslidallas.org/wp-content/uploads/2022/02/Fellows-Website-Slider.png
ORGANIZER;CN="CS Lewis Institute-Dallas":MAILTO:k.durham@cslewisinstitute.org
END:VEVENT
BEGIN:VEVENT
DTSTART;TZID=America/Chicago:20230603T090000
DTEND;TZID=America/Chicago:20230603T090000
DTSTAMP:20260423T153808
CREATED:20220309T183001Z
LAST-MODIFIED:20220309T183014Z
UID:7243-1685782800-1685782800@cslidallas.org
SUMMARY:June Fellows Meeting - "Our Mission - Making Disciples"
DESCRIPTION:Fellowship\, Lecture and Discussion on May’s Readings.
URL:https://cslidallas.org/event/june-fellows-meeting/
LOCATION:Tyler Street Church\, 927 W. Tenth Street\, Dallas\, TX\, 75208
CATEGORIES:Monthly Fellows Meeting
ATTACH;FMTTYPE=image/png:https://cslidallas.org/wp-content/uploads/2022/02/Fellows-Website-Slider.png
ORGANIZER;CN="CS Lewis Institute-Dallas":MAILTO:k.durham@cslewisinstitute.org
END:VEVENT
BEGIN:VEVENT
DTSTART;TZID=America/Chicago:20230506T080000
DTEND;TZID=America/Chicago:20230506T170000
DTSTAMP:20260423T153808
CREATED:20220309T182747Z
LAST-MODIFIED:20220309T182801Z
UID:7241-1683360000-1683392400@cslidallas.org
SUMMARY:May Fellows Meeting - "Sharing the Faith - Conversational Apologetics"
DESCRIPTION:Fellowship\, Lecture and Discussion on April’s Readings.
URL:https://cslidallas.org/event/may-fellows-meeting/
LOCATION:Tyler Street Church\, 927 W. Tenth Street\, Dallas\, TX\, 75208
CATEGORIES:Monthly Fellows Meeting
ATTACH;FMTTYPE=image/png:https://cslidallas.org/wp-content/uploads/2022/02/Fellows-Website-Slider.png
ORGANIZER;CN="CS Lewis Institute-Dallas":MAILTO:k.durham@cslewisinstitute.org
END:VEVENT
BEGIN:VEVENT
DTSTART;TZID=America/Chicago:20230401T090000
DTEND;TZID=America/Chicago:20230401T123000
DTSTAMP:20260423T153808
CREATED:20220309T182607Z
LAST-MODIFIED:20220309T182607Z
UID:7239-1680339600-1680352200@cslidallas.org
SUMMARY:April Fellows Meeting - "Commending the Faith - Cultural Apologetics"
DESCRIPTION:Fellowship\, Lecture and Discussion on March’s Readings.
URL:https://cslidallas.org/event/april-fellows-meeting/
LOCATION:TX
CATEGORIES:Monthly Fellows Meeting
ATTACH;FMTTYPE=image/png:https://cslidallas.org/wp-content/uploads/2022/02/Fellows-Website-Slider.png
END:VEVENT
BEGIN:VEVENT
DTSTART;TZID=America/Chicago:20230304T090000
DTEND;TZID=America/Chicago:20230304T123000
DTSTAMP:20260423T153808
CREATED:20220309T181235Z
LAST-MODIFIED:20220309T182012Z
UID:7234-1677920400-1677933000@cslidallas.org
SUMMARY:March Fellows Meeting - "Pursuing God's Call on Your Life"
DESCRIPTION:Fellowship\, Lecture and Discussion on February’s Readings
URL:https://cslidallas.org/event/march-fellows-meeting/
LOCATION:Tyler Street Church\, 927 W. Tenth Street\, Dallas\, TX\, 75208
CATEGORIES:Monthly Fellows Meeting
ATTACH;FMTTYPE=image/png:https://cslidallas.org/wp-content/uploads/2022/02/Fellows-Website-Slider.png
ORGANIZER;CN="CS Lewis Institute-Dallas":MAILTO:k.durham@cslewisinstitute.org
END:VEVENT
BEGIN:VEVENT
DTSTART;TZID=America/Chicago:20230204T090000
DTEND;TZID=America/Chicago:20230204T123000
DTSTAMP:20260423T153808
CREATED:20220309T180715Z
LAST-MODIFIED:20220309T183952Z
UID:7232-1675501200-1675513800@cslidallas.org
SUMMARY:February Fellows Meeting - "Living a Life of Love and Obedience"
DESCRIPTION:Fellowship\, Lecture and Discussion on January’s readings.
URL:https://cslidallas.org/event/february-fellows-meeting/
LOCATION:Tyler Street Church\, 927 W. Tenth Street\, Dallas\, TX\, 75208
CATEGORIES:Monthly Fellows Meeting
ATTACH;FMTTYPE=image/png:https://cslidallas.org/wp-content/uploads/2022/02/Fellows-Website-Slider.png
ORGANIZER;CN="CS Lewis Institute-Dallas":MAILTO:k.durham@cslewisinstitute.org
END:VEVENT
BEGIN:VEVENT
DTSTART;TZID=America/Chicago:20230107T090000
DTEND;TZID=America/Chicago:20230107T090000
DTSTAMP:20260423T153808
CREATED:20220309T180507Z
LAST-MODIFIED:20220309T184017Z
UID:7230-1673082000-1673082000@cslidallas.org
SUMMARY:January Fellows Meeting - "Walking in Humility"
DESCRIPTION:Fellowship\, Lecture and Discussion on December’s readings
URL:https://cslidallas.org/event/january-fellows-meeting/
LOCATION:Tyler Street Church\, 927 W. Tenth Street\, Dallas\, TX\, 75208
CATEGORIES:Monthly Fellows Meeting
ATTACH;FMTTYPE=image/png:https://cslidallas.org/wp-content/uploads/2022/02/Fellows-Website-Slider.png
ORGANIZER;CN="CS Lewis Institute-Dallas":MAILTO:k.durham@cslewisinstitute.org
END:VEVENT
BEGIN:VEVENT
DTSTART;TZID=America/Chicago:20221203T090000
DTEND;TZID=America/Chicago:20221203T123000
DTSTAMP:20260423T153808
CREATED:20220309T180155Z
LAST-MODIFIED:20220309T183914Z
UID:7228-1670058000-1670070600@cslidallas.org
SUMMARY:December Fellows Meeting - "Growing in Prayer and Faith"
DESCRIPTION:Fellowship\, Lecture and Discussion on November’s Readings.
URL:https://cslidallas.org/event/december-fellows-meeting/
LOCATION:Tyler Street Church\, 927 W. Tenth Street\, Dallas\, TX\, 75208
CATEGORIES:Monthly Fellows Meeting
ATTACH;FMTTYPE=image/png:https://cslidallas.org/wp-content/uploads/2022/02/Fellows-Website-Slider.png
ORGANIZER;CN="CS Lewis Institute-Dallas":MAILTO:k.durham@cslewisinstitute.org
END:VEVENT
BEGIN:VEVENT
DTSTART;TZID=America/Chicago:20221105T090000
DTEND;TZID=America/Chicago:20221105T090000
DTSTAMP:20260423T153808
CREATED:20220309T175924Z
LAST-MODIFIED:20220309T183548Z
UID:7226-1667638800-1667638800@cslidallas.org
SUMMARY:November Fellows Meeting - "Being Transformed By Scripture"
DESCRIPTION:Fellowship\, Lecture and Discussion on October’s Readings.
URL:https://cslidallas.org/event/november-fellows-meeting/
LOCATION:Tyler Street Church\, 927 W. Tenth Street\, Dallas\, TX\, 75208
CATEGORIES:Monthly Fellows Meeting
ATTACH;FMTTYPE=image/png:https://cslidallas.org/wp-content/uploads/2022/02/Fellows-Website-Slider.png
ORGANIZER;CN="CS Lewis Institute-Dallas":MAILTO:k.durham@cslewisinstitute.org
END:VEVENT
BEGIN:VEVENT
DTSTART;TZID=America/Chicago:20221001T090000
DTEND;TZID=America/Chicago:20221001T090000
DTSTAMP:20260423T153808
CREATED:20220309T175530Z
LAST-MODIFIED:20220309T183648Z
UID:7224-1664614800-1664614800@cslidallas.org
SUMMARY:October Fellows Meeting - "Walking in the Holy Spirit"
DESCRIPTION:Fellowship\, Lecture and Discussion on September’s Readings.
URL:https://cslidallas.org/event/october-fellows-meeting/
LOCATION:Tyler Street Church\, 927 W. Tenth Street\, Dallas\, TX\, 75208
CATEGORIES:Monthly Fellows Meeting
ATTACH;FMTTYPE=image/png:https://cslidallas.org/wp-content/uploads/2022/02/Fellows-Website-Slider.png
END:VEVENT
BEGIN:VEVENT
DTSTART;TZID=America/Chicago:20220909T170000
DTEND;TZID=America/Chicago:20220911T100000
DTSTAMP:20260423T153808
CREATED:20220309T175256Z
LAST-MODIFIED:20220309T175256Z
UID:7222-1662742800-1662890400@cslidallas.org
SUMMARY:Year One Fellows Fall Retreat
DESCRIPTION:A time to build community\, discuss summer readings and set the foundations for the year ahead!\nSummer Readings Discussed : June (Receiving God’s Grace); July (Deeper Conversion); August (Following Jesus Christ).
URL:https://cslidallas.org/event/year-one-fellows-fall-retreat/
LOCATION:TX
CATEGORIES:Monthly Fellows Meeting
ATTACH;FMTTYPE=image/png:https://cslidallas.org/wp-content/uploads/2022/02/Fellows-Website-Slider.png
ORGANIZER;CN="CS Lewis Institute-Dallas":MAILTO:k.durham@cslewisinstitute.org
END:VEVENT
BEGIN:VEVENT
DTSTART;TZID=America/Chicago:20220611T090000
DTEND;TZID=America/Chicago:20220611T123000
DTSTAMP:20260423T153808
CREATED:20220309T174811Z
LAST-MODIFIED:20220309T174811Z
UID:7218-1654938000-1654950600@cslidallas.org
SUMMARY:Fellows Summer Kick-Off Meeting
DESCRIPTION:Orientation and kick off for the 2022 – 2023 Year One Fellows Program.
URL:https://cslidallas.org/event/fellows-summer-kick-off-meeting/
LOCATION:Tyler Street Church\, 927 W. Tenth Street\, Dallas\, TX\, 75208
CATEGORIES:Monthly Fellows Meeting
ATTACH;FMTTYPE=image/png:https://cslidallas.org/wp-content/uploads/2022/02/Fellows-Website-Slider.png
ORGANIZER;CN="CS Lewis Institute-Dallas":MAILTO:k.durham@cslewisinstitute.org
END:VEVENT
BEGIN:VEVENT
DTSTART;VALUE=DATE:20220201
DTEND;VALUE=DATE:20220516
DTSTAMP:20260423T153808
CREATED:20220309T174057Z
LAST-MODIFIED:20220309T174057Z
UID:7212-1643673600-1652659199@cslidallas.org
SUMMARY:Fellows Applications Period - Feb 1 to May 15
DESCRIPTION:The C.S. Lewis Institute Fellows Program offers a tuition-free year of intensive discipleship that leads to significant life-change. The program prepares each Fellow to live a powerful\, transformed life in their church\, their community and in their workplace. Unlike many discipleship programs\, the Fellows program focuses on discipleship of both heart and mind. It involves Bible Study\, classic readings\, lectures\, group processing\, personal spiritual mentoring and accountability – all in the context of a small group of like-minded believers. This year-long program is designed for those who want to live as fully committed disciples of Jesus Christ and make an impact for Him in the world. It is designed to be achievable even for busy professionals with families. \nClick to Apply!
URL:https://cslidallas.org/event/fellows-applications-period-feb-1-to-may-15/
LOCATION:TX
CATEGORIES:Monthly Fellows Meeting
ATTACH;FMTTYPE=image/png:https://cslidallas.org/wp-content/uploads/2022/02/Fellows-Website-Slider.png
ORGANIZER;CN="CS Lewis Institute-Dallas":MAILTO:k.durham@cslewisinstitute.org
END:VEVENT
BEGIN:VEVENT
DTSTART;TZID=America/Chicago:20210306T090000
DTEND;TZID=America/Chicago:20210306T090000
DTSTAMP:20260423T153808
CREATED:20210131T054101Z
LAST-MODIFIED:20210131T055711Z
UID:6393-1615021200-1615021200@cslidallas.org
SUMMARY:Fellows Meeting: Pursuing God's Call on Your Life
DESCRIPTION:“Be sure that that the ins and outs of your individuality are no mystery to Him; and one day they will be no longer be a mystery to you.”  \nC.S. Lewis\, The Problem of Pain 
URL:https://cslidallas.org/event/fellows-meeting-pursuing-gods-call-on-your-life/
LOCATION:Online
CATEGORIES:Monthly Fellows Meeting
ORGANIZER;CN="CS Lewis Institute-Dallas":MAILTO:k.durham@cslewisinstitute.org
END:VEVENT
BEGIN:VEVENT
DTSTART;TZID=America/Chicago:20210206T090000
DTEND;TZID=America/Chicago:20210206T120000
DTSTAMP:20260423T153808
CREATED:20210131T034316Z
LAST-MODIFIED:20210131T055844Z
UID:6362-1612602000-1612612800@cslidallas.org
SUMMARY:Fellows Meeting: Living a Life of Love and Obedience
DESCRIPTION:“Christian Love\, either towards God or towards man\, is an affair of the will.” \nC.S. Lewis\, Mere Christianity
URL:https://cslidallas.org/event/living-a-life-of-love-and-obedience/
LOCATION:Online
CATEGORIES:Monthly Fellows Meeting
END:VEVENT
END:VCALENDAR